BEGIN:VCALENDAR
VERSION:2.0
PRODID:-//FACIUM Academy - ECPv6.15.17.1//NONSGML v1.0//EN
CALSCALE:GREGORIAN
METHOD:PUBLISH
X-WR-CALNAME:FACIUM Academy
X-ORIGINAL-URL:https://faciumacademy.com
X-WR-CALDESC:Eventos para FACIUM Academy
REFRESH-INTERVAL;VALUE=DURATION:PT1H
X-Robots-Tag:noindex
X-PUBLISHED-TTL:PT1H
BEGIN:VTIMEZONE
TZID:America/Bogota
BEGIN:STANDARD
TZOFFSETFROM:-0500
TZOFFSETTO:-0500
TZNAME:-05
DTSTART:20250101T000000
END:STANDARD
END:VTIMEZONE
BEGIN:VEVENT
DTSTART;TZID=America/Bogota:20260408T000000
DTEND;TZID=America/Bogota:20260410T000000
DTSTAMP:20260420T100517
CREATED:20260310T211617Z
LAST-MODIFIED:20260310T211617Z
UID:27577-1775606400-1775779200@faciumacademy.com
SUMMARY:Entrenamiento Especializado
DESCRIPTION:SOLICITAR INFORMACIÓN Y COSTOS
URL:https://faciumacademy.com/evento/entrenamiento-especializado/
LOCATION:Chile\, Chile
CATEGORIES:FACIUM Academy
END:VEVENT
BEGIN:VEVENT
DTSTART;TZID=America/Bogota:20260417T000000
DTEND;TZID=America/Bogota:20260417T000000
DTSTAMP:20260420T100517
CREATED:20260310T212030Z
LAST-MODIFIED:20260310T212030Z
UID:27580-1776384000-1776384000@faciumacademy.com
SUMMARY:Full Day de Actualización.
DESCRIPTION:SOLICITAR INFORMACIÓN Y COSTOS
URL:https://faciumacademy.com/evento/full-day-de-actualizacion/
LOCATION:Valencia\, Venezuela\, Valencia\, Venezuela
CATEGORIES:FACIUM Academy
END:VEVENT
END:VCALENDAR