BEGIN:VCALENDAR
VERSION:2.0
PRODID:-//FACIUM Academy - ECPv6.15.17.1//NONSGML v1.0//EN
CALSCALE:GREGORIAN
METHOD:PUBLISH
X-WR-CALNAME:FACIUM Academy
X-ORIGINAL-URL:https://faciumacademy.com
X-WR-CALDESC:Eventos para FACIUM Academy
REFRESH-INTERVAL;VALUE=DURATION:PT1H
X-Robots-Tag:noindex
X-PUBLISHED-TTL:PT1H
BEGIN:VTIMEZONE
TZID:America/Bogota
BEGIN:STANDARD
TZOFFSETFROM:-0500
TZOFFSETTO:-0500
TZNAME:-05
DTSTART:20250101T000000
END:STANDARD
END:VTIMEZONE
BEGIN:VEVENT
DTSTART;TZID=America/Bogota:20260529T000000
DTEND;TZID=America/Bogota:20260530T000000
DTSTAMP:20260420T115138
CREATED:20260310T213006Z
LAST-MODIFIED:20260310T213006Z
UID:27591-1780012800-1780099200@faciumacademy.com
SUMMARY:SYNFACE (Próximamente más información).
DESCRIPTION:SOLICITAR INFORMACIÓN Y COSTOS
URL:https://faciumacademy.com/evento/synface-proximamente-mas-informacion/
LOCATION:Bogotá\, Colombia\, Bogotá\, Colombia
CATEGORIES:FACIUM Academy
END:VEVENT
BEGIN:VEVENT
DTSTART;TZID=America/Bogota:20260619T000000
DTEND;TZID=America/Bogota:20260619T000000
DTSTAMP:20260420T115138
CREATED:20260310T213242Z
LAST-MODIFIED:20260310T213242Z
UID:27593-1781827200-1781827200@faciumacademy.com
SUMMARY:Full Day Anatomía - CLEMI.
DESCRIPTION:SOLICITAR INFORMACIÓN Y COSTOS
URL:https://faciumacademy.com/evento/full-day-anatomia-clemi/
LOCATION:Bogotá\, Colombia\, Bogotá\, Colombia
CATEGORIES:FACIUM Academy
END:VEVENT
END:VCALENDAR