BEGIN:VCALENDAR
VERSION:2.0
PRODID:-//FACIUM Academy - ECPv6.15.17.1//NONSGML v1.0//EN
CALSCALE:GREGORIAN
METHOD:PUBLISH
X-WR-CALNAME:FACIUM Academy
X-ORIGINAL-URL:https://faciumacademy.com
X-WR-CALDESC:Eventos para FACIUM Academy
REFRESH-INTERVAL;VALUE=DURATION:PT1H
X-Robots-Tag:noindex
X-PUBLISHED-TTL:PT1H
BEGIN:VTIMEZONE
TZID:America/Bogota
BEGIN:STANDARD
TZOFFSETFROM:-0500
TZOFFSETTO:-0500
TZNAME:-05
DTSTART:20250101T000000
END:STANDARD
END:VTIMEZONE
BEGIN:VEVENT
DTSTART;TZID=America/Bogota:20260324T000000
DTEND;TZID=America/Bogota:20260403T000000
DTSTAMP:20260416T161502
CREATED:20260310T211324Z
LAST-MODIFIED:20260310T211324Z
UID:27575-1774310400-1775174400@faciumacademy.com
SUMMARY:Tour Europa & Medio Oriente
DESCRIPTION:Destinos: España y Dubái \nSOLICITAR INFORMACIÓN Y COSTOS
URL:https://faciumacademy.com/evento/tour-europa-medio-oriente/
CATEGORIES:FACIUM Academy
END:VEVENT
END:VCALENDAR