BEGIN:VCALENDAR
VERSION:2.0
PRODID:-//FACIUM Academy - ECPv6.15.17.1//NONSGML v1.0//EN
CALSCALE:GREGORIAN
METHOD:PUBLISH
X-ORIGINAL-URL:https://faciumacademy.com
X-WR-CALDESC:Eventos para FACIUM Academy
REFRESH-INTERVAL;VALUE=DURATION:PT1H
X-Robots-Tag:noindex
X-PUBLISHED-TTL:PT1H
BEGIN:VTIMEZONE
TZID:America/Bogota
BEGIN:STANDARD
TZOFFSETFROM:-0500
TZOFFSETTO:-0500
TZNAME:-05
DTSTART:20250101T000000
END:STANDARD
END:VTIMEZONE
BEGIN:VEVENT
DTSTART;TZID=America/Bogota:20260720T000000
DTEND;TZID=America/Bogota:20260724T000000
DTSTAMP:20260420T175005
CREATED:20260310T213800Z
LAST-MODIFIED:20260310T213800Z
UID:27598-1784505600-1784851200@faciumacademy.com
SUMMARY:Entrenamiento Intensivo.
DESCRIPTION:SOLICITAR INFORMACIÓN Y COSTOS
URL:https://faciumacademy.com/evento/entrenamiento-intensivo/
LOCATION:Córdoba\, Argentina\, Córdoba\, Argentina
CATEGORIES:FACIUM Academy
END:VEVENT
END:VCALENDAR